BEGIN:VCALENDAR
VERSION:2.0
PRODID:-//demosphere.net//NONSGML kigkonsult.se iCalcreator 2.22.1//
METHOD:REQUEST
X-WR-TIMEZONE:Europe/Paris
BEGIN:VEVENT
UID:https://lot.demosphere.net/rv/5728
DTSTAMP:20220226T090000Z
DESCRIPTION:plus d'infos sur : https://lot.demosphere.net/rv/5728
DTSTART:20220226T090000Z
DTEND:20220226T100000Z
GEO:+44.68;+1.66
LOCATION:Cahors\, \nPlace Mitterrand à Cahors
SUMMARY:Rassemblement contre la guerre en Ukraine
URL:https://lot.demosphere.net/rv/5728
END:VEVENT
END:VCALENDAR
