BEGIN:VCALENDAR
VERSION:2.0
PRODID:-//demosphere.net//NONSGML kigkonsult.se iCalcreator 2.22.1//
METHOD:REQUEST
X-WR-TIMEZONE:Europe/Paris
BEGIN:VEVENT
UID:https://lot.demosphere.net/rv/8378
DTSTAMP:20260425T173000Z
DESCRIPTION:plus d'infos sur : https://lot.demosphere.net/rv/8378
DTSTART:20260425T173000Z
DTEND:20260425T183000Z
GEO:+44.641939;+1.837604
LOCATION:Livernon\, \nLe Clan destin - Mas de la Biscle - Livernon
SUMMARY:Concert La Faille / Le Clan Destin soirée d'ouverture!
URL:https://lot.demosphere.net/rv/8378
END:VEVENT
END:VCALENDAR
