BEGIN:VCALENDAR
VERSION:2.0
PRODID:-//demosphere.net//NONSGML kigkonsult.se iCalcreator 2.22.1//
METHOD:REQUEST
X-WR-TIMEZONE:Europe/Paris
BEGIN:VEVENT
UID:https://lot.demosphere.net/rv/8379
DTSTAMP:20260424T013300Z
DESCRIPTION:plus d'infos sur : https://lot.demosphere.net/rv/8379
DTSTART;VALUE=DATE:20260424
GEO:+44.896911;+1.817207
LOCATION:Prudhomat\, \nPrudhomat
SUMMARY:Journée de la Terre 20eme édition
URL:https://lot.demosphere.net/rv/8379
END:VEVENT
END:VCALENDAR
