BEGIN:VCALENDAR
VERSION:2.0
PRODID:-//demosphere.net//NONSGML kigkonsult.se iCalcreator 2.22.1//
METHOD:REQUEST
X-WR-TIMEZONE:Europe/Paris
BEGIN:VEVENT
UID:https://lot.demosphere.net/rv/8381
DTSTAMP:20260501T120000Z
DESCRIPTION:plus d'infos sur : https://lot.demosphere.net/rv/8381
DTSTART:20260501T120000Z
DTEND:20260501T130000Z
LOCATION:Lamothe-Fénélon\, \n317 route de Campanole\, Lamothe-Fénelon
SUMMARY:Fête populaire du 1er mai
URL:https://lot.demosphere.net/rv/8381
END:VEVENT
END:VCALENDAR
