BEGIN:VCALENDAR
VERSION:2.0
PRODID:-//demosphere.net//NONSGML kigkonsult.se iCalcreator 2.22.1//
METHOD:REQUEST
X-WR-TIMEZONE:Europe/Paris
BEGIN:VEVENT
UID:https://lot.demosphere.net/rv/8384
DTSTAMP:20260516T133000Z
DESCRIPTION:plus d'infos sur : https://lot.demosphere.net/rv/8384
DTSTART:20260516T133000Z
DTEND:20260516T143000Z
GEO:+44.444668;+1.433164
LOCATION:Cahors\, \nLes Docks\, 430 allée des soupirs\, Cahors
SUMMARY:La Poule aux Potes fait sa Kermesse!
URL:https://lot.demosphere.net/rv/8384
END:VEVENT
END:VCALENDAR
