BEGIN:VCALENDAR
VERSION:2.0
PRODID:-//demosphere.net//NONSGML kigkonsult.se iCalcreator 2.22.1//
METHOD:REQUEST
X-WR-TIMEZONE:Europe/Paris
BEGIN:VEVENT
UID:https://lot.demosphere.net/rv/8385
DTSTAMP:20260429T160000Z
DESCRIPTION:plus d'infos sur : https://lot.demosphere.net/rv/8385
DTSTART:20260429T160000Z
DTEND:20260429T170000Z
GEO:+44.448743;+1.442597
LOCATION:Cahors\, \nCafé associatif La Poule aux Potes\, rue Pellegry
SUMMARY:Atelier : fresque de la biodiversité (avec Bio 46)
URL:https://lot.demosphere.net/rv/8385
END:VEVENT
END:VCALENDAR
